BEGIN:VCALENDAR
VERSION:2.0
PRODID:-//ChamberMaster//Event Calendar 2.0//EN
METHOD:PUBLISH
X-PUBLISHED-TTL:P1H
REFRESH-INTERVAL:P1H
CALSCALE:GREGORIAN
BEGIN:VTIMEZONE
TZID:America/Los_Angeles
BEGIN:DAYLIGHT
RRULE:FREQ=YEARLY;BYMONTH=3;BYDAY=2SU
DTSTART:20070101T000000
TZOFFSETFROM:-0800
TZOFFSETTO:-0700
TZNAME:Pacific Daylight Time
END:DAYLIGHT
BEGIN:STANDARD
RRULE:FREQ=YEARLY;BYMONTH=11;BYDAY=1SU
DTSTART:20070101T000000
TZOFFSETFROM:-0700
TZOFFSETTO:-0800
TZNAME:Pacific Standard Time
END:STANDARD
END:VTIMEZONE
BEGIN:VEVENT
DTSTART;TZID=America/Los_Angeles:20260313T100000
DTEND;TZID=America/Los_Angeles:20260313T120000
X-MICROSOFT-CDO-ALLDAYEVENT:FALSE
SUMMARY:Economic Address with Premier Eby at Svante
DESCRIPTION:Following the release of the provincial budget\, the Burnaby Board of Trade is proud to welcome the Honourable David Eby\, Premier of British Columbia\, for an exclusive post-budget economic address to the Burnaby business community.Gain firsthand insights as the Premier outlines the government's legislative priorities for the year ahead and what they mean for you\, your business\, and our local economy.Join fellow business leaders and community stakeholders for this timely and informative event\, and hear directly from the Premier about the path forward.Don't miss this opportunity to stay informed\, engaged\, and connected.\n\n\n\nBBOT Event Cancellation Policy: Refunds or credits will only be considered when requested at least 3 days before an event.
X-ALT-DESC;FMTTYPE=text/html:<!DOCTYPE html><html><head><title></title></head><body aria-disabled="false"><p>Following the release of the provincial budget\, the Burnaby Board of Trade is proud to welcome the Honourable David Eby\, Premier of British Columbia\, for an exclusive post-budget economic address to the Burnaby business community.</p><p>Gain firsthand insights as the Premier outlines the government&#39\;s legislative priorities for the year ahead and what they mean for you\, your business\, and our local economy.</p><p>Join fellow business leaders and community stakeholders for this timely and informative event\, and hear directly from the Premier about the path forward.</p><p>Don&#39\;t miss this opportunity to stay informed\, engaged\, and connected.<br><br><br><br></p><p data-end="1096" data-start="926"><span style="color: rgb(0\, 0\, 0)\;"><em style="box-sizing: border-box\; color: rgb(51\, 51\, 51)\; font-family: Roboto\, sans-serif\; font-size: 16px\; font-variant-ligatures: normal\; font-variant-caps: normal\; font-weight: 300\; letter-spacing: normal\; orphans: 2\; text-align: start\; text-indent: 0px\; text-transform: none\; widows: 2\; word-spacing: 0px\; -webkit-text-stroke-width: 0px\; white-space: normal\; background-color: rgb(252\, 252\, 252)\; text-decoration-thickness: initial\; text-decoration-style: initial\; text-decoration-color: initial\;"><span style="font-size: 14px\;">BBOT&nbsp\;</span></em></span><em style="box-sizing: border-box\; color: rgb(51\, 51\, 51)\; font-family: Roboto\, sans-serif\; font-size: 16px\; font-variant-ligatures: normal\; font-variant-caps: normal\; font-weight: 300\; letter-spacing: normal\; orphans: 2\; text-align: start\; text-indent: 0px\; text-transform: none\; widows: 2\; word-spacing: 0px\; -webkit-text-stroke-width: 0px\; white-space: normal\; background-color: rgb(252\, 252\, 252)\; text-decoration-thickness: initial\; text-decoration-style: initial\; text-decoration-color: initial\;"><span style="color: rgb(0\, 0\, 0)\; font-size: 14px\;">Event Cancellation Policy: Refunds or credits will only be considered when requested at least 3 days before an event.</span></em></p></body></html>
LOCATION:8800 Glenlyon Parkway Burnaby BC V5J 5K3
UID:e.4336.1395189
SEQUENCE:3
DTSTAMP:20260421T102106Z
URL:https://members.bbot.ca/events/Details/economic-address-with-premier-eby-at-svante-1648590?sourceTypeId=Hub
END:VEVENT
END:VCALENDAR
