BEGIN:VCALENDAR
VERSION:2.0
PRODID:-//ChamberMaster//Event Calendar 2.0//EN
METHOD:PUBLISH
X-PUBLISHED-TTL:P1H
REFRESH-INTERVAL:P1H
CALSCALE:GREGORIAN
BEGIN:VTIMEZONE
TZID:America/Los_Angeles
BEGIN:DAYLIGHT
RRULE:FREQ=YEARLY;BYMONTH=3;BYDAY=2SU
DTSTART:20070101T000000
TZOFFSETFROM:-0800
TZOFFSETTO:-0700
TZNAME:Pacific Daylight Time
END:DAYLIGHT
BEGIN:STANDARD
RRULE:FREQ=YEARLY;BYMONTH=11;BYDAY=1SU
DTSTART:20070101T000000
TZOFFSETFROM:-0700
TZOFFSETTO:-0800
TZNAME:Pacific Standard Time
END:STANDARD
END:VTIMEZONE
BEGIN:VEVENT
DTSTART;TZID=America/Los_Angeles:20260529T160000
DTEND;TZID=America/Los_Angeles:20260529T180000
X-MICROSOFT-CDO-ALLDAYEVENT:FALSE
SUMMARY:NRG RECEPTION at OEB Brentwood
DESCRIPTION:Join the BBOT's monthly networking and referral group! Meet new contacts\, promote your brand and build your business. Experience the exponential power of networking as facilitated activities connect you with person after person during this fun lively event.This NRG is a special evening event from 4:00pm to 6:00pm\, hosted at OEB Brentwood. Each ticket includes a drink ticket\, and as always there will be a facilitated networking component to the event\, with time to mix and mingle as well.Buy One Get One - With each member ticket you buy\, you can bring a prospective member along for free to have them experience the Burnaby Board of Trade. You'll look like a hero for bringing them\, and it will add one more face to the event. We kindly request that these prospective members be from a different company than your and have not previously been a free guest. You must email sarah@bbot.ca and receive email confirmation to confirm your guest's attendance. Please include your guest's name\, email\, phone number and company.Lucky Draw - Win prizes at each event! Consider donating a prize for the lucky draw\, this is a great way to promote your business and add a little extra fun to the event. Please email sarah@bbot.ca with your door prize.NRG networking events are open exclusively to BBOT members and invited guests only.BBOT Event Cancellation Policy: Refunds or credits will only be considered when requested at least 3 days prior to an event.
X-ALT-DESC;FMTTYPE=text/html:<!DOCTYPE html><html><head><title></title></head><body aria-disabled="false"><p>Join the BBOT&#39\;s monthly networking and referral group! Meet new contacts\, promote your brand and build your business. Experience the exponential power of networking as facilitated activities connect you with person after person during this fun lively event.</p><p style="text-align: center\;"><strong fr-original-style="" style="font-weight: 700\;">This NRG is a special evening event from 4:00pm to 6:00pm\, hosted at OEB Brentwood. Each ticket includes a drink ticket\, and as always there will be a facilitated networking component to the event\, with time to mix and mingle as well.</strong></p><p><strong fr-original-style="" style="font-weight: 700\;">Buy One Get One</strong> - With each member ticket you buy\, you can bring a prospective member along for free to have them experience the Burnaby Board of Trade. You&#39\;ll look like a hero for bringing them\, and it will add one more face to the event. We kindly request that these prospective members be from a different company than your and have not previously been a free guest.&nbsp\;</p><p><em>You must email <a fr-original-style="" href="mailto:sarah@bbot.ca" style="user-select: auto\;">sarah@bbot.ca</a> and receive email confirmation to confirm your guest&#39\;s attendance. Please include your guest&#39\;s name\, email\, phone number and company.</em></p><p><strong fr-original-style="" style="font-weight: 700\;">Lucky Draw</strong> - Win prizes at each event! Consider donating a prize for the lucky draw\, this is a great way to promote your business and add a little extra fun to the event. <em>Please email <a fr-original-style="" href="mailto:sarah@bbot.ca" style="user-select: auto\;">sarah@bbot.ca</a> with your door prize.</em></p><p><em><span style="font-size: 14px\;">NRG networking events are open exclusively to BBOT members and invited guests only.</span></em></p><p><em><span style="font-size: 14px\;">BBOT Event Cancellation Policy: Refunds or credits will only be considered when requested at least 3 days prior to an event.</span></em></p></body></html>
LOCATION:2306 - 4525 Lougheed Hwy Burnaby BC V5C 3Z6
UID:e.4336.1445626
SEQUENCE:3
DTSTAMP:20260422T015546Z
URL:https://members.bbot.ca/events/Details/nrg-reception-at-oeb-brentwood-1712241?sourceTypeId=Hub
END:VEVENT
END:VCALENDAR
