BEGIN:VCALENDAR
VERSION:2.0
PRODID:-//ChamberMaster//Event Calendar 2.0//EN
METHOD:PUBLISH
X-PUBLISHED-TTL:P1H
REFRESH-INTERVAL:P1H
CALSCALE:GREGORIAN
BEGIN:VTIMEZONE
TZID:America/Los_Angeles
BEGIN:DAYLIGHT
RRULE:FREQ=YEARLY;BYMONTH=3;BYDAY=2SU
DTSTART:20070101T000000
TZOFFSETFROM:-0800
TZOFFSETTO:-0700
TZNAME:Pacific Daylight Time
END:DAYLIGHT
BEGIN:STANDARD
RRULE:FREQ=YEARLY;BYMONTH=11;BYDAY=1SU
DTSTART:20070101T000000
TZOFFSETFROM:-0700
TZOFFSETTO:-0800
TZNAME:Pacific Standard Time
END:STANDARD
END:VTIMEZONE
BEGIN:VEVENT
DTSTART;TZID=America/Los_Angeles:20260416T160000
DTEND;TZID=America/Los_Angeles:20260416T180000
X-MICROSOFT-CDO-ALLDAYEVENT:FALSE
SUMMARY:SOLD OUT! After Hours with BC Centre for Ability
DESCRIPTION:Join us for an After Hours Mixer with the BC Centre for Ability!This After Hours Mixer offers guests an early look at the future home of Foundry Burnaby\, welcoming attendees to explore the space as construction and renovations begin. Guests will have the opportunity to tour the site and learn more about the vision for the future Foundry Burnaby facility. This new space in Burnaby is dedicated to providing youth seeking mental health and wellness services. This project is brought to you by BBOT Members\, BC Centre for Ability and Burnaby Hospital and Community Foundation will also be celebrating their exciting new fundraising partnerships.As always\, you will have the chance to mix and mingle with fellow professionals in a casual way - and enjoy some delicious refreshments as well.This event is complimentary to BBOT members\, so sign up in advance to secure your spot!About our HostsBC Centre for Ability (BCCFA) has been delivering quality services for children\, youth\, and adults with disabilities and their families across BC since 1969. BCCFA is the largest community-based provider of child development services in BC and is considered a provincial leader in the field. BCCFA serves clients with a variety of different neurodevelopmental conditions including Autism\, ADHD\, FASD\, brain injuries\, Down syndrome and cerebral palsy\, although services are needs-based and a diagnosis is not required to access services. With Foundry Burnaby\, BCCFA is excited to expand its existing counselling services to include young people specifically seeking mental health and wellness services.Burnaby Hospital & Community Foundation is the fundraising organization for Burnaby Hospital\, serving more than half a million people across Burnaby\, East Vancouver\, and surrounding communities. The Foundation raises funds to support exceptional healthcare and community wellness\, both within the hospital and beyond its walls.Established in 1982\, the Foundation invests in advanced medical equipment and technology. the expansion and modernization of hospital facilities\, and community programs and patient care initiatives that respond to evolving health and wellness needs\, all made possible through donor generosity and community partnerships. Guided by a vision of a connected community\, the Foundation is committed to strengthening care and improving health outcomes for patients and families across Burnaby and East Vancouver.
X-ALT-DESC;FMTTYPE=text/html:<!DOCTYPE html><html><head><title></title></head><body aria-disabled="false"><p>Join us for an After Hours Mixer with the <span style="color: rgb(44\, 130\, 201)\;"><a fr-original-style="" href="https://www.bc-cfa.org/" style="user-select: auto\; color: inherit\;"><strong fr-original-style="" style="font-weight: 700\;"><u>BC Centre for Ability!</u></strong></a></span></p><p>This After Hours Mixer offers guests an early look at the future home of <span style="color: rgb(44\, 130\, 201)\;"><a fr-original-style="" href="https://www.bc-cfa.org/programs/foundry" style="user-select: auto\; color: inherit\;"><strong fr-original-style="" style="font-weight: 700\;"><u>Foundry Burnaby</u></strong></a>\,</span> welcoming attendees to explore the space as construction and renovations begin. Guests will have the opportunity to tour the site and learn more about the vision for the future Foundry Burnaby facility. This new space in Burnaby is dedicated to providing youth seeking mental health and wellness services. This project is brought to you by BBOT Members\, <span style="color: rgb(44\, 130\, 201)\;"><u><a fr-original-style="" href="https://www.bc-cfa.org/" style="user-select: auto\; color: inherit\;"><strong fr-original-style="" style="font-weight: 700\;">BC Centre for Ability</strong></a></u></span> and <span style="color: rgb(44\, 130\, 201)\;"><a fr-original-style="" href="https://www.bhfoundation.ca/loveofburnaby/?gad_source=1&gad_campaignid=23563233350&gbraid=0AAAABCPOSvdZOn_87QEHbwCq6Y4CJghuf&gclid=Cj0KCQiAhtvMBhDBARIsAL26pjEHB6OPqVx2mndufvpIavRVQdgUYkOuCHDGyOoKi-Q3WyU9OT8KRIQaAttYEALw_wcB" style="user-select: auto\; color: inherit\;"><strong fr-original-style="" style="font-weight: 700\;"><u>Burnaby Hospital and Community Foundation</u></strong></a></span> will also be celebrating their exciting new fundraising partnerships.</p><p>As always\, you will have the chance to mix and mingle with fellow professionals in a casual way - and enjoy some delicious refreshments as well.</p><p>This event is complimentary to BBOT members\, so sign up in advance to secure your spot!</p><p><strong fr-original-style="" style="font-weight: 700\;"><u>About our Hosts</u></strong></p><p><em><strong fr-original-style="" style="font-weight: 700\;">BC Centre for Ability (BCCFA)</strong> has been delivering quality services for children\, youth\, and adults with disabilities and their families across BC since 1969. BCCFA is the largest community-based provider of child development services in BC and is considered a provincial leader in the field. BCCFA serves clients with a variety of different neurodevelopmental conditions including Autism\, ADHD\, FASD\, brain injuries\, Down syndrome and cerebral palsy\, although services are needs-based and a diagnosis is not required to access services. With Foundry Burnaby\, BCCFA is excited to expand its existing counselling services to include young people specifically seeking mental health and wellness services.</em></p><p><em><strong fr-original-style="" style="font-weight: 700\;">Burnaby Hospital &amp\; Community Foundation</strong> is the fundraising organization for Burnaby Hospital\, serving more than half a million people across Burnaby\, East Vancouver\, and surrounding communities. The Foundation raises funds to support exceptional healthcare and community wellness\, both within the hospital and beyond its walls.</em></p><p><em>Established in 1982\, the Foundation invests in advanced medical equipment and technology. the expansion and modernization of hospital facilities\, and community programs and patient care initiatives that respond to evolving health and wellness needs\, all made possible through donor generosity and community partnerships. Guided by a vision of a connected community\, the Foundation is committed to strengthening care and improving health outcomes for patients and families across Burnaby and East Vancouver.&nbsp\;</em></p></body></html>
LOCATION:6889 Royal Oak Ave Burnaby BC V5J 0K4
UID:e.4336.1403631
SEQUENCE:3
DTSTAMP:20260422T015447Z
URL:https://members.bbot.ca/events/Details/sold-out-after-hours-with-bc-centre-for-ability-1658849?sourceTypeId=Hub
END:VEVENT
END:VCALENDAR
